BEGIN:VCALENDAR
VERSION:2.0
CALSCALE:GREGORIAN
METHOD:PUBLISH
PRODID://FGAC//496309
BEGIN:VEVENT
DTSTAMP:20260423T055132
VTIMEZONE:America/New_York
DTSTART:20260321T130000Z
DTEND:20260321T160000Z
UID:496309
SUMMARY:Night Vision Study Club Qualification Course Action Bay #8
LOCATION:Action Bay #8
DESCRIPTION:Night Vision Study Club Qualification Course Action Bay #8\n\n03/21/26 09:00 AM EST\n - 03/21/26 12:00 PM EST\Description:\nDescription:\nThis is a qualification course in order to shoot with night vision equipment. Gear required: pistol, holster, rifle configured to be shot with night vision, rifle sling, magazines and magazines holders. Course of fire will be with both rifle and pistol to include rifle/pistol transitions. Must be able to demonstrate ability to load/unload both weapons and reholster pistol without vision. Limited to 8 club members.\n\nAction Bay #8\n9:00 am to 12:00 pm\nContact email Al David  Gatordmd4uf@comcast.net\n\n \Location:\nAction Bay #8\n\n,
X-ALT-DESC;FMTTYPE=text/html:Night Vision Study Club Qualification Course Action Bay #8<br /><br />03/21/26 09:00 AM EST - 03/21/26 12:00 PM EST<br />Description:<br />Description:<br />
This is a qualification course in order to shoot with night vision equipment. Gear required: pistol, holster, rifle configured to be shot with night vision, rifle sling, magazines and magazines holders. Course of fire will be with both rifle and pistol to include rifle/pistol transitions. Must be able to demonstrate ability to load/unload both weapons and reholster pistol without vision. Limited to 8 club members.<br />
<br />
Action Bay #8<br />
9:00 am to 12:00 pm<br />
Contact email Al David&nbsp;&nbsp;<a href="mailto:Gatordmd4uf@comcast.net" target="_blank">Gatordmd4uf@comcast.net</a><br />
<br />
&nbsp;<br />Location:<br />Action Bay #8<br /><br />,  
PRIORITY:3
TRANSP:TRANSPARENT
BEGIN:VALARM
TRIGGER:-PT5M
ACTION:DISPLAY
DESCRIPTION:Reminder
END:VALARM
END:VEVENT
END:VCALENDAR
