BEGIN:VCALENDAR
VERSION:2.0
CALSCALE:GREGORIAN
METHOD:PUBLISH
PRODID://BALD//493925
BEGIN:VEVENT
DTSTAMP:20260421T100104
VTIMEZONE:America/Chicago
DTSTART:20260318T223000Z
DTEND:20260319T000000Z
UID:493925
SUMMARY:Just for Fun - Tee Off at The Wharf
LOCATION:Tee Off at The Wharf, 4619 Main St., Suite A101, Orange Beach, AL, 36561
DESCRIPTION:Just for Fun - Tee Off at The Wharf\n\n03/18/26 05:30 PM CST\n - 03/18/26 07:00 PM CST\Description:\nIt's time to Par-tee at the new Tee Off at The Wharf. Join us for an evening of fun, food, drinks, and golf. We will have a complimentary golf simulator reserved for attendees. Members and guests will be responsible for their own food and drink costs. For more information on the venue, visit:  Tee Off At The Wharf Powered by TOPGOLF Swing Suites\Location:\nTee Off at The Wharf\n4619 Main St., Suite A101\nOrange Beach, AL 36561
X-ALT-DESC;FMTTYPE=text/html:Just for Fun - Tee Off at The Wharf<br /><br />03/18/26 05:30 PM CST - 03/18/26 07:00 PM CST<br />Description:<br />It's time to Par-tee at the new Tee Off at The Wharf. Join us for an evening of fun, food, drinks, and golf. We will have a complimentary golf simulator reserved for attendees. Members and guests will be responsible for their own food and drink costs. For more information on the venue, visit:&nbsp;&nbsp;<a href="https://www.teeoffatthewharf.com/">Tee Off At The Wharf Powered by TOPGOLF Swing Suites</a><br />Location:<br />Tee Off at The Wharf<br />4619 Main St., Suite A101<br />Orange Beach, AL 36561
PRIORITY:3
TRANSP:TRANSPARENT
BEGIN:VALARM
TRIGGER:-PT5M
ACTION:DISPLAY
DESCRIPTION:Reminder
END:VALARM
END:VEVENT
END:VCALENDAR
