BEGIN:VCALENDAR
VERSION:2.0
CALSCALE:GREGORIAN
METHOD:PUBLISH
PRODID://FASF//491338
BEGIN:VEVENT
DTSTAMP:20260423T162356
VTIMEZONE:America/New_York
DTSTART:20251114T143000Z
DTEND:20251114T200000Z
UID:491338
SUMMARY:Fall 2025 Region IV Workshop
LOCATION:Florida Polytechnic University, Barnett Applied Research Center (BARC), Room 2200, Lakeland, FL, 33805
DESCRIPTION:Fall 2025 Region IV Workshop\n\n11/14/25 09:30 AM EST\n - 11/14/25 03:00 PM EST\Description:\nFall 2025 FASFAA Region IV Workshop\nDate: November 14, 2025\nTime: 9:30am – 3:00pm\nLocation: Florida Polytechnic University, BARC Room 2200, 4400 Polytechnic Circle, Lakeland, FL 33805\n\nMembership Requirement\nThis workshop is available at no additional cost for current FASFAA members.\nNot yet a member or need to renew? Please complete your membership before registering.\n\Details:\nAgenda Details\n9:30 AM              Coffee and Refreshments\n                           Welcome and Site Information – Carrie Mann, Region IV Representative\n9:45 AM              FASFAA Welcome and Updates – Egan Hanson, FASFAA President\n10:00 AM            Bonnie Pirkle Scholarship and the charity\n10:15 AM            NASFAA Application Process – this session is a NASFAA U Authorized Event focused on the FAFSA.\n                            Attendees with a NASFAA ID will qualify to take the Application Process certification exam at no cost within 40 days.\n12:00 PM            Lunch Provided\n12:30 PM            Financial Aid Trivia Bingo – Let’s unwind and have some fun testing our FA knowledge!\n1:30 PM              The One Big Beautiful Bill Act – Let’s talk through the changes and potential impact on our students\n2:45 PM              Raffle Drawing and Region IV Photo\n3:00 PM              Workshop Adjourns\Location:\nFlorida Polytechnic University\nBarnett Applied Research Center (BARC), Room 2200\nLakeland, FL 33805
X-ALT-DESC;FMTTYPE=text/html:Fall 2025 Region IV Workshop<br /><br />11/14/25 09:30 AM EST - 11/14/25 03:00 PM EST<br />Description:<br /><p data-end="402" data-start="174"><strong data-end="217" data-start="174">Fall 2025 FASFAA Region IV&nbsp;Workshop</strong><br />
<strong data-end="232" data-start="220">Date:</strong> November 14, 2025<br />
<strong data-end="272" data-start="260">Time:</strong> 9:30am &ndash; 3:00pm<br data-end="293" data-start="290" />
<strong data-end="309" data-start="293">Location:&nbsp;</strong>Florida Polytechnic University,&nbsp;BARC Room 2200, 4400 Polytechnic Circle, Lakeland, FL&nbsp;33805</p>

<p data-end="606" data-start="404"><strong data-end="432" data-start="406">Membership Requirement</strong><br data-end="435" data-start="432" />
This workshop is available <strong data-end="487" data-start="462">at no additional cost</strong> for current FASFAA members.<br data-end="518" data-start="515" />
Not yet a member or need to renew? Please complete your membership before registering.</p>
<br />Details:<br /><strong data-end="599" data-start="581">Agenda Details</strong><br data-end="602" data-start="599" />
9:30 AM&nbsp;&nbsp;&nbsp;&nbsp;&nbsp;&nbsp;&nbsp;&nbsp;&nbsp;&nbsp;&nbsp;&nbsp;&nbsp; Coffee and Refreshments<br />
&nbsp; &nbsp; &nbsp; &nbsp; &nbsp; &nbsp; &nbsp; &nbsp; &nbsp; &nbsp; &nbsp; &nbsp; &nbsp; &nbsp;Welcome and Site Information &ndash; Carrie Mann, Region IV Representative<br />
9:45 AM&nbsp;&nbsp;&nbsp;&nbsp;&nbsp;&nbsp;&nbsp;&nbsp;&nbsp;&nbsp;&nbsp;&nbsp;&nbsp; FASFAA Welcome and Updates &ndash; Egan Hanson, FASFAA President<br />
10:00 AM&nbsp;&nbsp;&nbsp;&nbsp;&nbsp;&nbsp;&nbsp;&nbsp;&nbsp;&nbsp;&nbsp; Bonnie Pirkle Scholarship and the charity<br />
10:15 AM&nbsp;&nbsp;&nbsp;&nbsp;&nbsp;&nbsp;&nbsp;&nbsp;&nbsp;&nbsp;&nbsp; NASFAA Application Process &ndash; this session is a NASFAA U Authorized Event focused on the FAFSA.<br />
&nbsp;&nbsp;&nbsp;&nbsp;&nbsp;&nbsp;&nbsp;&nbsp;&nbsp;&nbsp;&nbsp;&nbsp;&nbsp;&nbsp;&nbsp;&nbsp;&nbsp;&nbsp;&nbsp;&nbsp;&nbsp;&nbsp;&nbsp;&nbsp;&nbsp;&nbsp;&nbsp;&nbsp;Attendees with a NASFAA ID will qualify to take the Application Process certification exam at no cost within 40 days.<br />
12:00 PM&nbsp;&nbsp;&nbsp;&nbsp;&nbsp;&nbsp;&nbsp;&nbsp;&nbsp;&nbsp;&nbsp; Lunch Provided<br />
12:30 PM&nbsp;&nbsp;&nbsp;&nbsp;&nbsp;&nbsp;&nbsp;&nbsp;&nbsp;&nbsp;&nbsp; Financial Aid Trivia Bingo &ndash; Let&rsquo;s unwind and have some fun testing our FA knowledge!<br />
1:30 PM&nbsp;&nbsp;&nbsp;&nbsp;&nbsp;&nbsp;&nbsp;&nbsp;&nbsp;&nbsp;&nbsp;&nbsp;&nbsp; The One Big Beautiful Bill Act &ndash; Let&rsquo;s talk through the changes and potential impact on our students<br />
2:45 PM&nbsp;&nbsp;&nbsp;&nbsp;&nbsp;&nbsp;&nbsp;&nbsp;&nbsp;&nbsp;&nbsp;&nbsp;&nbsp; Raffle Drawing and Region IV Photo<br />
3:00 PM&nbsp;&nbsp;&nbsp;&nbsp;&nbsp;&nbsp;&nbsp;&nbsp;&nbsp;&nbsp;&nbsp;&nbsp;&nbsp; Workshop Adjourns<br />Location:<br />Florida Polytechnic University<br />Barnett Applied Research Center (BARC), Room 2200<br />Lakeland, FL 33805
PRIORITY:3
TRANSP:TRANSPARENT
BEGIN:VALARM
TRIGGER:-PT5M
ACTION:DISPLAY
DESCRIPTION:Reminder
END:VALARM
END:VEVENT
END:VCALENDAR
