BEGIN:VCALENDAR
VERSION:2.0
CALSCALE:GREGORIAN
METHOD:PUBLISH
PRODID://CAAO//491016
BEGIN:VEVENT
DTSTAMP:20260425T072429
VTIMEZONE:America/New_York
DTSTART:20260227T160000Z
DTEND:20260227T190000Z
UID:491016
SUMMARY:CT Chapter of IAAO/HAAA Meeting
LOCATION:Wood n Tap, 12 Town Line Rd, Rocky Hill, CT, 06067
DESCRIPTION:CT Chapter of IAAO/HAAA Meeting\n\n02/27/26 11:00 AM EST\n - 02/27/26 02:00 PM EST\Description:\nThe Connecticut Chapter of IAAO & H.A.A.A\nJoint Installation Meeting with Webinar\n\nWhen: Friday, February 27, 2026\nWhere: Wood N Tap\n12 Town Line Road\nRocky Hill, CT 06067\n\nTime: 11:00 am to 2:00 pm\nCost: $45\nLunch will be provided\n\nWebinar: Becoming a Better Mentor\nCEU: There will be 1.5 hours of CEU credits\n\nPlease RSVP by Monday, February 23, 2026\n\nFor questions or to make your reservation, contact Brendan Moriarty\n860-258-2722 or email bmoriarty@rockyhillct.gov\n(Seating may be limited so please RSVP to reserve a spot)\n\nPrintable Flyer & Registration Form\n\Location:\nWood n Tap\n12 Town Line Rd\nRocky Hill, CT 06067
X-ALT-DESC;FMTTYPE=text/html:CT Chapter of IAAO/HAAA Meeting<br /><br />02/27/26 11:00 AM EST - 02/27/26 02:00 PM EST<br />Description:<br /><p data-mce-style="text-align: center;"><strong>The Connecticut Chapter of IAAO &amp; H.A.A.A</strong><br />
<strong>Joint Installation Meeting with Webinar</strong><br />
<br />
When: Friday, February 27, 2026<br />
Where: Wood N Tap<br />
12 Town Line Road<br />
Rocky Hill, CT 06067</p>

<p data-mce-style="text-align: center;">Time: 11:00 am to 2:00 pm<br />
Cost: $45<br />
Lunch will be provided</p>

<p data-mce-style="text-align: center;"><strong>Webinar: Becoming a Better Mentor</strong><br />
<strong>CEU: There will be 1.5 hours of CEU credits</strong></p>

<p data-mce-style="text-align: center;"><span style="color:#FF0000">Please RSVP by Monday, February 23, 2026</span></p>

<p data-mce-style="text-align: center;">For questions or to make your reservation, contact Brendan Moriarty<br />
860-258-2722 or email&nbsp;<a data-mce-href="mailto:bmoriarty@rockyhillct.go" href="mailto:bmoriarty@rockyhillct.go" target="_blank">bmoriarty@rockyhillct.go</a>v<br />
<span style="color:#FF0000"><em>(Seating may be limited so please RSVP to reserve a spot)</em></span></p>

<p data-mce-style="text-align: center;"><a data-mce-href="https://caao.com/wp-content/uploads/CT-IAAO-HAAA-February-Meeting-Registration.pdf" href="https://host8.viethwebhosting.com/~caao/docs/CT_IAAO_-_HAAA_February_Meeting_Registration.pdf" target="_blank">Printable Flyer &amp; Registration Form</a></p>
<br />Location:<br />Wood n Tap<br />12 Town Line Rd<br />Rocky Hill, CT 06067
PRIORITY:3
TRANSP:TRANSPARENT
BEGIN:VALARM
TRIGGER:-PT5M
ACTION:DISPLAY
DESCRIPTION:Reminder
END:VALARM
END:VEVENT
END:VCALENDAR
