BEGIN:VCALENDAR
VERSION:2.0
CALSCALE:GREGORIAN
METHOD:PUBLISH
PRODID://BGTB//490001
BEGIN:VEVENT
DTSTAMP:20260420T210155
VTIMEZONE:America/New_York
DTSTART:20260325T140000Z
DTEND:20260325T150000Z
UID:490001
SUMMARY:March BOMA GTB Board of Directors Meeting
LOCATION:NetPark, 5701 E. Hillsborough Avenue, Suite 1400, Tampa, FL, 33610
DESCRIPTION:March BOMA GTB Board of Directors Meeting\n\n03/25/26 10:00 AM EST\n - 03/25/26 11:00 AM EST\Description:\nThe BOMA GTB Board of Directors will hold its monthly meeting at 10:00 am at NetPark, 5701 E. Hillsborough Ave., Suite 1400, Tampa, FL 33610.\n\n \Location:\nNetPark\n5701 E. Hillsborough Avenue, Suite 1400\nTampa, FL 33610
X-ALT-DESC;FMTTYPE=text/html:March BOMA GTB Board of Directors Meeting<br /><br />03/25/26 10:00 AM EST - 03/25/26 11:00 AM EST<br />Description:<br />The BOMA GTB Board of Directors will hold its monthly meeting at 10:00 am at NetPark, 5701 E. Hillsborough Ave., Suite 1400, Tampa, FL 33610.<br />
<br />
&nbsp;<br />Location:<br />NetPark<br />5701 E. Hillsborough Avenue, Suite 1400<br />Tampa, FL 33610
PRIORITY:3
TRANSP:TRANSPARENT
BEGIN:VALARM
TRIGGER:-PT5M
ACTION:DISPLAY
DESCRIPTION:Reminder
END:VALARM
END:VEVENT
END:VCALENDAR
