BEGIN:VCALENDAR
VERSION:2.0
CALSCALE:GREGORIAN
METHOD:PUBLISH
PRODID://FGAC//488676
BEGIN:VEVENT
DTSTAMP:20260419T181549
VTIMEZONE:America/New_York
DTSTART:20261115T140000Z
DTEND:20261115T170000Z
UID:488676
SUMMARY:Sporting Clays
LOCATION:
DESCRIPTION:Sporting Clays\n\n11/15/26 09:00 AM EST\n - 11/15/26 12:00 PM EST\Description:\nMembers $ 20.00\nNon-members $ 40.00
X-ALT-DESC;FMTTYPE=text/html:Sporting Clays<br /><br />11/15/26 09:00 AM EST - 11/15/26 12:00 PM EST<br />Description:<br />Members $ 20.00<br />
Non-members $ 40.00
PRIORITY:3
TRANSP:TRANSPARENT
BEGIN:VALARM
TRIGGER:-PT5M
ACTION:DISPLAY
DESCRIPTION:Reminder
END:VALARM
END:VEVENT
END:VCALENDAR
