BEGIN:VCALENDAR
VERSION:2.0
CALSCALE:GREGORIAN
METHOD:PUBLISH
PRODID://FGAC//488662
BEGIN:VEVENT
DTSTAMP:20260419T181633
VTIMEZONE:America/New_York
DTSTART:20260809T130000Z
DTEND:20260809T160000Z
UID:488662
SUMMARY:Sporting Clays
LOCATION:
DESCRIPTION:Sporting Clays\n\n08/09/26 09:00 AM EST\n - 08/09/26 12:00 PM EST\Description:\nMembers $ 20.00\nNon-members $ 40.00
X-ALT-DESC;FMTTYPE=text/html:Sporting Clays<br /><br />08/09/26 09:00 AM EST - 08/09/26 12:00 PM EST<br />Description:<br />Members $ 20.00<br />
Non-members $ 40.00
PRIORITY:3
TRANSP:TRANSPARENT
BEGIN:VALARM
TRIGGER:-PT5M
ACTION:DISPLAY
DESCRIPTION:Reminder
END:VALARM
END:VEVENT
END:VCALENDAR
