BEGIN:VCALENDAR
VERSION:2.0
CALSCALE:GREGORIAN
METHOD:PUBLISH
PRODID://FGAC//488656
BEGIN:VEVENT
DTSTAMP:20260423T031355
VTIMEZONE:America/New_York
DTSTART:20261231T180000Z
DTEND:20261231T210000Z
UID:488656
SUMMARY:Sporting Clays
LOCATION:
DESCRIPTION:Sporting Clays\n\n12/31/26 01:00 PM EST\n - 12/31/26 04:00 PM EST\Description:\nMembers $20.00\nNon-members $40.00
X-ALT-DESC;FMTTYPE=text/html:Sporting Clays<br /><br />12/31/26 01:00 PM EST - 12/31/26 04:00 PM EST<br />Description:<br />Members $20.00<br />
Non-members $40.00
PRIORITY:3
TRANSP:TRANSPARENT
BEGIN:VALARM
TRIGGER:-PT5M
ACTION:DISPLAY
DESCRIPTION:Reminder
END:VALARM
END:VEVENT
END:VCALENDAR
