BEGIN:VCALENDAR
VERSION:2.0
CALSCALE:GREGORIAN
METHOD:PUBLISH
PRODID://FGAC//488649
BEGIN:VEVENT
DTSTAMP:20260424T134621
VTIMEZONE:America/New_York
DTSTART:20261112T180000Z
DTEND:20261112T210000Z
UID:488649
SUMMARY:Sporting Clays
LOCATION:
DESCRIPTION:Sporting Clays\n\n11/12/26 01:00 PM EST\n - 11/12/26 04:00 PM EST\Description:\nMembers $20.00\nNon-members $40.00
X-ALT-DESC;FMTTYPE=text/html:Sporting Clays<br /><br />11/12/26 01:00 PM EST - 11/12/26 04:00 PM EST<br />Description:<br />Members $20.00<br />
Non-members $40.00
PRIORITY:3
TRANSP:TRANSPARENT
BEGIN:VALARM
TRIGGER:-PT5M
ACTION:DISPLAY
DESCRIPTION:Reminder
END:VALARM
END:VEVENT
END:VCALENDAR
