BEGIN:VCALENDAR
VERSION:2.0
CALSCALE:GREGORIAN
METHOD:PUBLISH
PRODID://ALP//487807
BEGIN:VEVENT
DTSTAMP:20260421T113753
VTIMEZONE:America/New_York
DTSTART:20260413T160000Z
DTEND:20260413T200000Z
UID:487807
SUMMARY:Navigating and Managing Conflict: Brain Science, Polarities, and Trust-Building Conversations
LOCATION:
DESCRIPTION:Navigating and Managing Conflict: Brain Science, Polarities, and Trust-Building Conversations\n\n04/13/26 12:00 PM EST\n - 04/13/26 04:00 PM EST\Description:\nThis workshop reframes conflict as an opportunity for insight and growth. Participants will learn how stress responses shape behavior, how polarity thinking influences group dynamics, and how to facilitate conversations that build trust while maintaining accountability.\n\nLearning Outcomes\nParticipants will be able to:\n\n	Understand how brain science influences behavior during conflict\n	Identify and navigate polarities and “either/or” thinking\n	Respond to challenging behaviors with clarity and composure\n	Use a structured framework for trust-building conversations\n	Lead through conflict while preserving relationships and community trust\n\nThis course is included in ALP's Certified Community Leadership Practitioner (CCLP) designation curriculum but is open to anyone eager to deepen their leadership knowledge, regardless of whether they are pursuing the CCLP designation.
X-ALT-DESC;FMTTYPE=text/html:Navigating and Managing Conflict: Brain Science, Polarities, and Trust-Building Conversations<br /><br />04/13/26 12:00 PM EST - 04/13/26 04:00 PM EST<br />Description:<br />This workshop reframes conflict as an opportunity for insight and growth. Participants will learn how stress responses shape behavior, how polarity thinking influences group dynamics, and how to facilitate conversations that build trust while maintaining accountability.<br />
<br />
<strong>Learning Outcomes</strong><br />
Participants will be able to:
<ul>
	<li>Understand how brain science influences behavior during conflict</li>
	<li>Identify and navigate polarities and &ldquo;either/or&rdquo; thinking</li>
	<li>Respond to challenging behaviors with clarity and composure</li>
	<li>Use a structured framework for trust-building conversations</li>
	<li>Lead through conflict while preserving relationships and community trust</li>
</ul>
<em>This course is included in ALP's Certified Community Leadership Practitioner (CCLP) designation curriculum but is open to anyone eager to deepen their leadership knowledge, regardless of whether they are pursuing the CCLP designation.</em>
PRIORITY:3
TRANSP:TRANSPARENT
BEGIN:VALARM
TRIGGER:-PT5M
ACTION:DISPLAY
DESCRIPTION:Reminder
END:VALARM
END:VEVENT
END:VCALENDAR
