BEGIN:VCALENDAR
VERSION:2.0
CALSCALE:GREGORIAN
METHOD:PUBLISH
PRODID://BGTB//487806
BEGIN:VEVENT
DTSTAMP:20260420T102822
VTIMEZONE:America/New_York
DTSTART:20260820T180000Z
DTEND:20260820T190000Z
UID:487806
SUMMARY:Membership Committee Meeting
LOCATION:, FL
DESCRIPTION:Membership Committee Meeting\n\n08/20/26 02:00 PM EST\n - 08/20/26 03:00 PM EST\Description:\nThe Membership Committee will hold its monthly meeting via Teams.
X-ALT-DESC;FMTTYPE=text/html:Membership Committee Meeting<br /><br />08/20/26 02:00 PM EST - 08/20/26 03:00 PM EST<br />Description:<br />The Membership Committee will hold its monthly meeting via Teams.
PRIORITY:3
TRANSP:TRANSPARENT
BEGIN:VALARM
TRIGGER:-PT5M
ACTION:DISPLAY
DESCRIPTION:Reminder
END:VALARM
END:VEVENT
END:VCALENDAR
