BEGIN:VCALENDAR
VERSION:2.0
CALSCALE:GREGORIAN
METHOD:PUBLISH
PRODID://ALP//487801
BEGIN:VEVENT
DTSTAMP:20260421T132336
VTIMEZONE:America/New_York
DTSTART:20260330T160000Z
DTEND:20260330T200000Z
UID:487801
SUMMARY:Advanced Facilitation Techniques: Guiding Courageous Conversations Toward Action
LOCATION:Virtual Event - Zoom
DESCRIPTION:Advanced Facilitation Techniques: Guiding Courageous Conversations Toward Action\n\n03/30/26 12:00 PM EST\n - 03/30/26 04:00 PM EST\Description:\nDesigned for experienced facilitators, this session focuses on leading high-stakes, emotionally charged conversations in leadership settings. Participants will develop the skills needed to manage tension, balance participation, and guide groups from dialogue to shared understanding and action.\nLearning Outcomes\n\nParticipants will be able to:\n\n	Facilitate high-stakes conversations with confidence and composure\n	Redirect unproductive dialogue into constructive engagement\n	Balance participation and manage dominant or disengaged personalities\n	Ask powerful questions that deepen reflection and encourage solutions\n	Help groups move from emotion and advocacy to collaboration and action\n	Create environments of trust, accountability, and shared ownership\n\nPresenters:\nGriff Hall, Griff Strategic Leadership\nJohn Cherry, CCLP, Leadership Knoxville\n\nThis course is included in ALP's Certified Community Leadership Practitioner (CCLP) designation curriculum but is open to anyone eager to deepen their leadership knowledge, regardless of whether they are pursuing the CCLP designation.\Location:\nVirtual Event - Zoom\n\n,
X-ALT-DESC;FMTTYPE=text/html:Advanced Facilitation Techniques: Guiding Courageous Conversations Toward Action<br /><br />03/30/26 12:00 PM EST - 03/30/26 04:00 PM EST<br />Description:<br />Designed for experienced facilitators, this session focuses on leading high-stakes, emotionally charged conversations in leadership settings. Participants will develop the skills needed to manage tension, balance participation, and guide groups from dialogue to shared understanding and action.<br />
Learning Outcomes<br />
<br />
Participants will be able to:
<ul>
	<li>Facilitate high-stakes conversations with confidence and composure</li>
	<li>Redirect unproductive dialogue into constructive engagement</li>
	<li>Balance participation and manage dominant or disengaged personalities</li>
	<li>Ask powerful questions that deepen reflection and encourage solutions</li>
	<li>Help groups move from emotion and advocacy to collaboration and action</li>
	<li>Create environments of trust, accountability, and shared ownership</li>
</ul>
<strong>Presenters</strong>:<br />
Griff Hall, Griff Strategic Leadership<br />
John Cherry, CCLP, Leadership Knoxville<br />
<br />
<em>This course is included in ALP's Certified Community Leadership Practitioner (CCLP) designation curriculum but is open to anyone eager to deepen their leadership knowledge, regardless of whether they are pursuing the CCLP designation.</em><br />Location:<br />Virtual Event - Zoom<br /><br />,  
PRIORITY:3
TRANSP:TRANSPARENT
BEGIN:VALARM
TRIGGER:-PT5M
ACTION:DISPLAY
DESCRIPTION:Reminder
END:VALARM
END:VEVENT
END:VCALENDAR
