BEGIN:VCALENDAR
VERSION:2.0
CALSCALE:GREGORIAN
METHOD:PUBLISH
PRODID://BGTB//487724
BEGIN:VEVENT
DTSTAMP:20260420T100726
VTIMEZONE:America/New_York
DTSTART:20260218T203000Z
DTEND:20260218T213000Z
UID:487724
SUMMARY:Programs Committee Meeting
LOCATION:, FL
DESCRIPTION:Programs Committee Meeting\n\n02/18/26 03:30 PM EST\n - 02/18/26 04:30 PM EST\Description:\nThe Programs Committee will hold its monthly meeting via Teams.
X-ALT-DESC;FMTTYPE=text/html:Programs Committee Meeting<br /><br />02/18/26 03:30 PM EST - 02/18/26 04:30 PM EST<br />Description:<br />The Programs Committee will hold its monthly meeting via Teams.
PRIORITY:3
TRANSP:TRANSPARENT
BEGIN:VALARM
TRIGGER:-PT5M
ACTION:DISPLAY
DESCRIPTION:Reminder
END:VALARM
END:VEVENT
END:VCALENDAR
