BEGIN:VCALENDAR
VERSION:2.0
CALSCALE:GREGORIAN
METHOD:PUBLISH
PRODID://BGTB//487547
BEGIN:VEVENT
DTSTAMP:20260420T210126
VTIMEZONE:America/New_York
DTSTART:20260505T193000Z
DTEND:20260505T203000Z
UID:487547
SUMMARY:Emerging Professionals Committee Meeting
LOCATION:EDS Diversified, 3985 Gateway Centre Blvd., Suite 180, Pinellas Park, FL, 33782
DESCRIPTION:Emerging Professionals Committee Meeting\n\n05/05/26 03:30 PM EST\n - 05/05/26 04:30 PM EST\Description:\nThe Emerging Professionals Committee will hold it's monthly meeting at the offices of EDS Diversified.\Location:\nEDS Diversified\n3985 Gateway Centre Blvd., Suite 180\nPinellas Park, FL 33782
X-ALT-DESC;FMTTYPE=text/html:Emerging Professionals Committee Meeting<br /><br />05/05/26 03:30 PM EST - 05/05/26 04:30 PM EST<br />Description:<br />The Emerging Professionals Committee will hold it's monthly meeting at the offices of EDS Diversified.<br />Location:<br />EDS Diversified<br />3985 Gateway Centre Blvd., Suite 180<br />Pinellas Park, FL 33782
PRIORITY:3
TRANSP:TRANSPARENT
BEGIN:VALARM
TRIGGER:-PT5M
ACTION:DISPLAY
DESCRIPTION:Reminder
END:VALARM
END:VEVENT
END:VCALENDAR
