BEGIN:VCALENDAR
VERSION:2.0
CALSCALE:GREGORIAN
METHOD:PUBLISH
PRODID://FGAC//487537
BEGIN:VEVENT
DTSTAMP:20260421T095330
VTIMEZONE:America/New_York
DTSTART:20260406T130000Z
DTEND:20260406T200000Z
UID:487537
SUMMARY:FWC Training on the Action Range
LOCATION:Main Action Range
DESCRIPTION:FWC Training on the Action Range\n\n04/06/26 09:00 AM EST\n - 04/06/26 04:00 PM EST\Description:\nFWC Training on the Action Range.'\n9:00 am to 4:00 pm\nContact: Martin Brabham\n386-931-5613\nactionpistol@flaglergunclub.com\Location:\nMain Action Range\n\n,
X-ALT-DESC;FMTTYPE=text/html:FWC Training on the Action Range<br /><br />04/06/26 09:00 AM EST - 04/06/26 04:00 PM EST<br />Description:<br />FWC Training on the Action Range.'<br />
9:00 am to 4:00 pm<br />
Contact: Martin Brabham<br />
386-931-5613<br />
actionpistol@flaglergunclub.com<br />Location:<br />Main Action Range<br /><br />,  
PRIORITY:3
TRANSP:TRANSPARENT
BEGIN:VALARM
TRIGGER:-PT5M
ACTION:DISPLAY
DESCRIPTION:Reminder
END:VALARM
END:VEVENT
END:VCALENDAR
