BEGIN:VCALENDAR
VERSION:2.0
CALSCALE:GREGORIAN
METHOD:PUBLISH
PRODID://BGTB//487193
BEGIN:VEVENT
DTSTAMP:20260420T233858
VTIMEZONE:America/New_York
DTSTART:20260407T193000Z
DTEND:20260407T203000Z
UID:487193
SUMMARY:Emerging Professionals Committee Meeting
LOCATION:The Pointe, 2502 N Rocky Point Drive, #190 - 1st Floor Conference Room, Tampa, FL, 33607
DESCRIPTION:Emerging Professionals Committee Meeting\n\n04/07/26 03:30 PM EST\n - 04/07/26 04:30 PM EST\Description:\nThe Emerging Professionals Committee will hold its monthly meeting at The Pointe.\n\n \Location:\nThe Pointe\n2502 N Rocky Point Drive, #190 - 1st Floor Conference Room\nTampa, FL 33607
X-ALT-DESC;FMTTYPE=text/html:Emerging Professionals Committee Meeting<br /><br />04/07/26 03:30 PM EST - 04/07/26 04:30 PM EST<br />Description:<br />The Emerging Professionals Committee will hold its monthly meeting at The Pointe.<br />
<br />
&nbsp;<br />Location:<br />The Pointe<br />2502 N Rocky Point Drive, #190 - 1st Floor Conference Room<br />Tampa, FL 33607
PRIORITY:3
TRANSP:TRANSPARENT
BEGIN:VALARM
TRIGGER:-PT5M
ACTION:DISPLAY
DESCRIPTION:Reminder
END:VALARM
END:VEVENT
END:VCALENDAR
