BEGIN:VCALENDAR
VERSION:2.0
CALSCALE:GREGORIAN
METHOD:PUBLISH
PRODID://BGTB//485532
BEGIN:VEVENT
DTSTAMP:20260425T233112
VTIMEZONE:America/New_York
DTSTART:20260225T133000Z
DTEND:20260225T200000Z
UID:485532
SUMMARY:2026 BOMA Florida Day at the Capitol
LOCATION:Senate Chamber at the Florida Historic Capitol Museum, 400 S. Monroe Street, Tallahassee, FL
DESCRIPTION:2026 BOMA Florida Day at the Capitol\n\n02/25/26 08:30 AM EST\n - 02/25/26 03:00 PM EST\Description:\nRegistration is now open for BOMA Florida's Tally Day!\n\nGet Involved!\Location:\nSenate Chamber at the Florida Historic Capitol Museum\n400 S. Monroe Street\nTallahassee, FL
X-ALT-DESC;FMTTYPE=text/html:2026 BOMA Florida Day at the Capitol<br /><br />02/25/26 08:30 AM EST - 02/25/26 03:00 PM EST<br />Description:<br /><span style="font-size:14px"><strong>Registration is now open for BOMA Florida's Tally Day!<br />
<br />
Get Involved!</strong></span><br />Location:<br />Senate Chamber at the Florida Historic Capitol Museum<br />400 S. Monroe Street<br />Tallahassee, FL 
PRIORITY:3
TRANSP:TRANSPARENT
BEGIN:VALARM
TRIGGER:-PT5M
ACTION:DISPLAY
DESCRIPTION:Reminder
END:VALARM
END:VEVENT
END:VCALENDAR
