BEGIN:VCALENDAR
VERSION:2.0
CALSCALE:GREGORIAN
METHOD:PUBLISH
PRODID://GCB//485119
BEGIN:VEVENT
DTSTAMP:20260422T200054
VTIMEZONE:America/New_York
DTSTART:20260618T200000Z
DTEND:20260619T010000Z
UID:485119
SUMMARY:Music in the Park
LOCATION:
DESCRIPTION:Music in the Park\n\n06/18/26 04:00 PM EST\n - 06/18/26 09:00 PM EST\Description:\nCome and join us at our free concert.  There will be food trucks, vendors, shopping, games, and music.  The Band for June is The Ones and Twos, who will be bringing us some Motown.  The event opens at 4 p.m. with the band starting at 6:30 p.m. Come early with your lawn chair to find your prime spot.  
X-ALT-DESC;FMTTYPE=text/html:Music in the Park<br /><br />06/18/26 04:00 PM EST - 06/18/26 09:00 PM EST<br />Description:<br />Come and join us at our free concert.&nbsp; There will be food trucks, vendors, shopping, games, and music.&nbsp; The Band for June is The Ones and Twos, who will be bringing us some Motown.&nbsp; The event opens at 4 p.m. with the band starting at 6:30 p.m. Come early with your lawn chair to find your prime spot.&nbsp;&nbsp;
PRIORITY:3
TRANSP:TRANSPARENT
BEGIN:VALARM
TRIGGER:-PT5M
ACTION:DISPLAY
DESCRIPTION:Reminder
END:VALARM
END:VEVENT
END:VCALENDAR
