BEGIN:VCALENDAR
VERSION:2.0
CALSCALE:GREGORIAN
METHOD:PUBLISH
PRODID://NEAS//484092
BEGIN:VEVENT
DTSTAMP:20260424T092606
VTIMEZONE:America/Chicago
DTSTART:20260409T220000Z
DTEND:20260409T233000Z
UID:484092
SUMMARY:The Dreaded Pox:  Sex and Disease in Early Modern London
LOCATION:Great Plains Art Museum, 1155 Q Street, Lincoln, NE, 68504
DESCRIPTION:The Dreaded Pox:  Sex and Disease in Early Modern London\n\n04/09/26 05:00 PM CST\n - 04/09/26 06:30 PM CST\Description:\nThis talk offers a history of London life from 1650-1750 from the point of view of a shameful sexually transmitted disease.  In particular it looks at how patients shopped for pox cures using addresses printed on over 700 advertisements, turning away from medical institutions and learned writing toward the streets, shops and homes where ordinary patients and healers interacted.  \Location:\nGreat Plains Art Museum\n1155 Q Street\nLincoln, NE 68504
X-ALT-DESC;FMTTYPE=text/html:The Dreaded Pox:  Sex and Disease in Early Modern London<br /><br />04/09/26 05:00 PM CST - 04/09/26 06:30 PM CST<br />Description:<br />This talk offers a history of London life from 1650-1750 from the point of view of a shameful sexually transmitted disease.&nbsp; In particular it looks at how patients shopped for pox cures using addresses printed on over 700 advertisements, turning away from medical institutions and learned writing toward the streets, shops and homes where ordinary patients and healers interacted.&nbsp;&nbsp;<br />Location:<br />Great Plains Art Museum<br />1155 Q Street<br />Lincoln, NE 68504
PRIORITY:3
TRANSP:TRANSPARENT
BEGIN:VALARM
TRIGGER:-PT5M
ACTION:DISPLAY
DESCRIPTION:Reminder
END:VALARM
END:VEVENT
END:VCALENDAR
