BEGIN:VCALENDAR
VERSION:2.0
CALSCALE:GREGORIAN
METHOD:PUBLISH
PRODID://FGAC//483648
BEGIN:VEVENT
DTSTAMP:20260421T193701
VTIMEZONE:America/New_York
DTSTART:20260328T130000Z
DTEND:20260328T160000Z
UID:483648
SUMMARY:Archery Club Shoot
LOCATION:Archery Range, 1290 E County RD 90, Palm Coast, Fl, 32164-7209
DESCRIPTION:Archery Club Shoot\n\n03/28/26 09:00 AM EST\n - 03/28/26 12:00 PM EST\Description:\nFamily friendly club shoot. All disciplines and abilities are welcomed.\Location:\nArchery Range\n1290 E County RD 90\nPalm Coast, Fl 32164-7209
X-ALT-DESC;FMTTYPE=text/html:Archery Club Shoot<br /><br />03/28/26 09:00 AM EST - 03/28/26 12:00 PM EST<br />Description:<br />Family friendly club shoot. All disciplines and abilities are welcomed.<br />Location:<br />Archery Range<br />1290 E County RD 90<br />Palm Coast, Fl 32164-7209
PRIORITY:3
TRANSP:TRANSPARENT
BEGIN:VALARM
TRIGGER:-PT5M
ACTION:DISPLAY
DESCRIPTION:Reminder
END:VALARM
END:VEVENT
END:VCALENDAR
