BEGIN:VCALENDAR
VERSION:2.0
CALSCALE:GREGORIAN
METHOD:PUBLISH
PRODID://FGAC//483646
BEGIN:VEVENT
DTSTAMP:20260423T190749
VTIMEZONE:America/New_York
DTSTART:20260509T120000Z
DTEND:20260509T180000Z
UID:483646
SUMMARY:ASA Archery 3D Shoot
LOCATION:Flagler Gun and Archery Club ( Archery Range), 1290 E County RD 90, Bunnell, FL, 32110
DESCRIPTION:ASA Archery 3D Shoot\n\n05/09/26 08:00 AM EST\n - 05/09/26 02:00 PM EST\Description:\nASA Archery Shoot\nRegistration Time 8:00\nStart Time 9:00\Location:\nFlagler Gun and Archery Club ( Archery Range)\n1290 E County RD 90\nBunnell, FL 32110
X-ALT-DESC;FMTTYPE=text/html:ASA Archery 3D Shoot<br /><br />05/09/26 08:00 AM EST - 05/09/26 02:00 PM EST<br />Description:<br />ASA Archery Shoot<br />
Registration Time 8:00<br />
Start Time 9:00<br />Location:<br />Flagler Gun and Archery Club ( Archery Range)<br />1290 E County RD 90<br />Bunnell, FL 32110
PRIORITY:3
TRANSP:TRANSPARENT
BEGIN:VALARM
TRIGGER:-PT5M
ACTION:DISPLAY
DESCRIPTION:Reminder
END:VALARM
END:VEVENT
END:VCALENDAR
