BEGIN:VCALENDAR
VERSION:2.0
CALSCALE:GREGORIAN
METHOD:PUBLISH
PRODID://FGAC//483645
BEGIN:VEVENT
DTSTAMP:20260424T000618
VTIMEZONE:America/New_York
DTSTART:20260516T120000Z
DTEND:20260516T180000Z
UID:483645
SUMMARY:3D Circuit Archery Shoot
LOCATION:Flagler Gun and Archery Club ( Archery Range), 1290 E County RD 90, Palm Coast, Fl, 32164-7209
DESCRIPTION:3D Circuit Archery Shoot\n\n05/16/26 08:00 AM EST\n - 05/16/26 02:00 PM EST\Description:\n3D Circuit Archery Shoot\nRegistration 8:00\nStart Time 9:00\Location:\nFlagler Gun and Archery Club ( Archery Range)\n1290 E County RD 90\nPalm Coast, Fl 32164-7209
X-ALT-DESC;FMTTYPE=text/html:3D Circuit Archery Shoot<br /><br />05/16/26 08:00 AM EST - 05/16/26 02:00 PM EST<br />Description:<br />3D Circuit Archery Shoot<br />
Registration 8:00<br />
Start Time 9:00<br />Location:<br />Flagler Gun and Archery Club ( Archery Range)<br />1290 E County RD 90<br />Palm Coast, Fl 32164-7209
PRIORITY:3
TRANSP:TRANSPARENT
BEGIN:VALARM
TRIGGER:-PT5M
ACTION:DISPLAY
DESCRIPTION:Reminder
END:VALARM
END:VEVENT
END:VCALENDAR
