BEGIN:VCALENDAR
VERSION:2.0
CALSCALE:GREGORIAN
METHOD:PUBLISH
PRODID://CAGE//483406
BEGIN:VEVENT
DTSTAMP:20260423T074538
VTIMEZONE:America/Denver
DTSTART:20251217T183000Z
DTEND:20251217T200000Z
UID:483406
SUMMARY:CAGE/ASCE Luncheon Meeting - Gross Reservoir Project
LOCATION:PPA Event Center, 2105 Decatur St., Denver, CO
DESCRIPTION:CAGE/ASCE Luncheon Meeting - Gross Reservoir Project\n\n12/17/25 11:30 AM MST\n - 12/17/25 01:00 PM MST\Description:\nGross Reservoir Project\nPresenter: Jeff Martin, Program Manager, Denver Water\n\nMore information to come soon\n\Location:\nPPA Event Center\n2105 Decatur St.\nDenver, CO
X-ALT-DESC;FMTTYPE=text/html:CAGE/ASCE Luncheon Meeting - Gross Reservoir Project<br /><br />12/17/25 11:30 AM MST - 12/17/25 01:00 PM MST<br />Description:<br /><div style="text-align: center;"><strong>Gross Reservoir Project<br />
Presenter: Jeff Martin, Program Manager, Denver Water</strong><br />
<br />
More information to come soon</div>
<br />Location:<br />PPA Event Center<br />2105 Decatur St.<br />Denver, CO 
PRIORITY:3
TRANSP:TRANSPARENT
BEGIN:VALARM
TRIGGER:-PT5M
ACTION:DISPLAY
DESCRIPTION:Reminder
END:VALARM
END:VEVENT
END:VCALENDAR
