BEGIN:VCALENDAR
VERSION:2.0
CALSCALE:GREGORIAN
METHOD:PUBLISH
PRODID://VGCS//482238
BEGIN:VEVENT
DTSTAMP:20260424T173145
VTIMEZONE:America/New_York
DTSTART:20260213T170000Z
DTEND:20260213T190000Z
UID:482238
SUMMARY:SVTA Winter Social
LOCATION:, Woodstock Brewhouse, Woodstock, VA, 22664
DESCRIPTION:SVTA Winter Social\n\n02/13/26 12:00 PM EST\n - 02/13/26 02:00 PM EST\Details:\nHelp kick our year off right by joining us for food, drinks, and fellowship. This is a great event to bring Assistants, 2nd Assistants, or crew members looking to grow their career in turf. We will be announcing the 2026 SVTA officers and discussing what events we have planned this year.  \n \nFood and drinks provided, thanks to our 2026 SVTA Partners.\n\nPlease RSVP by February 9 to svta_mail@yahoo.com.\Location:\n\nWoodstock Brewhouse\nWoodstock, VA 22664
X-ALT-DESC;FMTTYPE=text/html:SVTA Winter Social<br /><br />02/13/26 12:00 PM EST - 02/13/26 02:00 PM EST<br />Details:<br />Help kick our year off right by joining us for food, drinks, and fellowship. This is a great event to bring Assistants, 2nd Assistants, or crew members looking to grow their career in turf. We will be announcing the 2026 SVTA officers and discussing what events we have planned this year.&nbsp;&nbsp;<br />
&nbsp;<br />
Food and drinks provided, thanks to our 2026 SVTA Partners.<br />
<br />
<strong>Please RSVP by February 9 to&nbsp;<a href="mailto:svta_mail@yahoo.com">svta_mail@yahoo.com</a>.</strong><br />Location:<br /><br />Woodstock Brewhouse<br />Woodstock, VA 22664
PRIORITY:3
TRANSP:TRANSPARENT
BEGIN:VALARM
TRIGGER:-PT5M
ACTION:DISPLAY
DESCRIPTION:Reminder
END:VALARM
END:VEVENT
END:VCALENDAR
