BEGIN:VCALENDAR
VERSION:2.0
CALSCALE:GREGORIAN
METHOD:PUBLISH
PRODID://ALP//482159
BEGIN:VEVENT
DTSTAMP:20260420T163256
VTIMEZONE:America/New_York
DTSTART:20260317T180000Z
DTEND:20260317T190000Z
UID:482159
SUMMARY:Alumni Engagement Affinity Group
LOCATION:Virtual Event
DESCRIPTION:Alumni Engagement Affinity Group\n\n03/17/26 02:00 PM EST\n - 03/17/26 03:00 PM EST\Description:\nA key ALP member benefit is connecting virtually with other members via Affinity Groups on a specific topic of interest.  \n \nAn ALP member/champion facilitates these ongoing, intact groups. Members of the group share and gain ideas, insights, best practices, inspiration, and more.  \n\nThe zoom link for each affinity group is only shared with members who have opted-in to specific groups. To sign up for an affinity group, click here. \n\nFor members who are signed up for Affinity Groups, you can access the Zoom link through the "projects/committees" drop-down after logging into the ALP website.\Location:\nVirtual Event\n\n,
X-ALT-DESC;FMTTYPE=text/html:Alumni Engagement Affinity Group<br /><br />03/17/26 02:00 PM EST - 03/17/26 03:00 PM EST<br />Description:<br />A key ALP member benefit is connecting virtually with other members via Affinity Groups on a specific topic of interest. &nbsp;<br />
&nbsp;<br />
An ALP member/champion facilitates these ongoing, intact groups. Members of the group share and gain ideas, insights, best practices, inspiration, and more.&nbsp;&nbsp;<br />
<br />
The zoom link for each affinity group is only shared with members who have opted-in to specific groups. To sign up for an affinity group,&nbsp;<a href="https://mms.alpleaders.org/members/form.php?orgcode=ALP&amp;fid=4887679">click here</a>.&nbsp;<br />
<br />
<strong>For members who are signed up for Affinity Groups, you can access the Zoom link through the &quot;projects/committees&quot; drop-down&nbsp;after logging into the ALP website.</strong><br />Location:<br />Virtual Event<br /><br />,  
PRIORITY:3
TRANSP:TRANSPARENT
BEGIN:VALARM
TRIGGER:-PT5M
ACTION:DISPLAY
DESCRIPTION:Reminder
END:VALARM
END:VEVENT
END:VCALENDAR
