BEGIN:VCALENDAR
VERSION:2.0
CALSCALE:GREGORIAN
METHOD:PUBLISH
PRODID://ALIV//482135
BEGIN:VEVENT
DTSTAMP:20260420T085338
VTIMEZONE:America/New_York
DTSTART:20260121T190000Z
DTEND:20260121T200000Z
UID:482135
SUMMARY:AmeriCorps Senior COP
LOCATION:https://www.google.com/url?q=https://teams.microsoft.com/l/meetup-join/19%253ameeting_NWVhZThiZTktMWZiYS00Y2M5LWI1NmItYzZlOTAwNTc3ZDBh%2540thread.v2/0?context%3D%257b%2522Tid%2522%253a%2522463d79c8-e751-4709-a4aa-9089e20f1e97%2522%252c%2522Oid%2522%253a%2
DESCRIPTION:AmeriCorps Senior COP\n\n01/21/26 02:00 PM EST\n - 01/21/26 03:00 PM EST\Description:\nCome meeting up with other AmeriCorps Senior grantees to discuss Tuesday's techincal call and to get support for operating your programs.  We look forward to meeting with you.\Details:\nCome meeting up with other AmeriCorps Senior grantees to discuss Tuesday's techincal call and to get support for operating your programs.  We look forward to meeting with you.\Location:\nhttps://www.google.com/url?q=https://teams.microsoft.com/l/meetup-join/19%253ameeting_NWVhZThiZTktMWZiYS00Y2M5LWI1NmItYzZlOTAwNTc3ZDBh%2540thread.v2/0?context%3D%257b%2522Tid%2522%253a%2522463d79c8-e751-4709-a4aa-9089e20f1e97%2522%252c%2522Oid%2522%253a%2\n\n,
X-ALT-DESC;FMTTYPE=text/html:AmeriCorps Senior COP<br /><br />01/21/26 02:00 PM EST - 01/21/26 03:00 PM EST<br />Description:<br />Come meeting up with other AmeriCorps Senior grantees to discuss Tuesday's techincal call and to get support for operating your programs.&nbsp; We look forward to meeting with you.<br />Details:<br />Come meeting up with other AmeriCorps Senior grantees to discuss Tuesday's techincal call and to get support for operating your programs.&nbsp; We look forward to meeting with you.<br />Location:<br />https://www.google.com/url?q=https://teams.microsoft.com/l/meetup-join/19%253ameeting_NWVhZThiZTktMWZiYS00Y2M5LWI1NmItYzZlOTAwNTc3ZDBh%2540thread.v2/0?context%3D%257b%2522Tid%2522%253a%2522463d79c8-e751-4709-a4aa-9089e20f1e97%2522%252c%2522Oid%2522%253a%2<br /><br />,  
PRIORITY:3
TRANSP:TRANSPARENT
BEGIN:VALARM
TRIGGER:-PT5M
ACTION:DISPLAY
DESCRIPTION:Reminder
END:VALARM
END:VEVENT
END:VCALENDAR
