BEGIN:VCALENDAR
VERSION:2.0
CALSCALE:GREGORIAN
METHOD:PUBLISH
PRODID://BGTB//481870
BEGIN:VEVENT
DTSTAMP:20260420T053223
VTIMEZONE:America/New_York
DTSTART:20260219T213000Z
DTEND:20260219T223000Z
UID:481870
SUMMARY:Bee Downtown Tasting & Happy Hour
LOCATION:Corporate Center IV, 4301 W. Boy Scout Blvd., Rooftop of the Parking Garage, Tampa, FL, 33607
DESCRIPTION:Bee Downtown Tasting & Happy Hour\n\n02/19/26 04:30 PM EST\n - 02/19/26 05:30 PM EST\Description:\nThe Sustainability Committee invites you to a Bee Downtown Tasting & Happy Hour....\nThis event is open to ALL BOMA GTB members\Location:\nCorporate Center IV\n4301 W. Boy Scout Blvd., Rooftop of the Parking Garage\nTampa, FL 33607
X-ALT-DESC;FMTTYPE=text/html:Bee Downtown Tasting & Happy Hour<br /><br />02/19/26 04:30 PM EST - 02/19/26 05:30 PM EST<br />Description:<br /><h2><span style="font-family:arial,helvetica,sans-serif"><span style="font-size:18px">The Sustainability Committee invites you to a Bee Downtown Tasting &amp; Happy Hour....</span></span></h2>
<span style="font-size:14px"><span style="font-family:arial,helvetica,sans-serif">This event is open to ALL BOMA GTB members</span></span><br />Location:<br />Corporate Center IV<br />4301 W. Boy Scout Blvd., Rooftop of the Parking Garage<br />Tampa, FL 33607
PRIORITY:3
TRANSP:TRANSPARENT
BEGIN:VALARM
TRIGGER:-PT5M
ACTION:DISPLAY
DESCRIPTION:Reminder
END:VALARM
END:VEVENT
END:VCALENDAR
