BEGIN:VCALENDAR
VERSION:2.0
CALSCALE:GREGORIAN
METHOD:PUBLISH
PRODID://BGTB//481869
BEGIN:VEVENT
DTSTAMP:20260421T063829
VTIMEZONE:America/New_York
DTSTART:20261203T160000Z
DTEND:20261203T163000Z
UID:481869
SUMMARY:Education Committee Meeting
LOCATION:, FL
DESCRIPTION:Education Committee Meeting\n\n12/03/26 11:00 AM EST\n - 12/03/26 11:30 AM EST\Description:\nJoin Us Via Teams!\n\nThe Education Committee will hold its monthly meeting via Teams:\nDATE:  Thursday, December 3, 2026\nTIME:  11:00 am to 11:30 am\nPlease register to attend and the Teams log-in information will be sent to you prior to the meeting.
X-ALT-DESC;FMTTYPE=text/html:Education Committee Meeting<br /><br />12/03/26 11:00 AM EST - 12/03/26 11:30 AM EST<br />Description:<br />Join Us Via Teams!<br />
<br />
The Education Committee will hold its monthly meeting via Teams:<br />
DATE:&nbsp; Thursday, December 3, 2026<br />
TIME:&nbsp; 11:00 am to 11:30 am<br />
Please register to attend and the Teams log-in information will be sent to you prior to the meeting.
PRIORITY:3
TRANSP:TRANSPARENT
BEGIN:VALARM
TRIGGER:-PT5M
ACTION:DISPLAY
DESCRIPTION:Reminder
END:VALARM
END:VEVENT
END:VCALENDAR
