BEGIN:VCALENDAR
VERSION:2.0
CALSCALE:GREGORIAN
METHOD:PUBLISH
PRODID://IAIE//480908
BEGIN:VEVENT
DTSTAMP:20260420T151851
VTIMEZONE:America/New_York
DTSTART:20260601T120000Z
DTEND:20260603T180000Z
UID:480908
SUMMARY:2026 IAFIE Annual Global Conference at the University of North Georgia
LOCATION:
DESCRIPTION:2026 IAFIE Annual Global Conference at the University of North Georgia\n\n06/01/26 08:00 AM EST\n - 06/03/26 02:00 PM EST\Description:\nTo register - select the Event Registration link shown below.\n\n\n	https://www.viethconsulting.com/members/evr/reg_event.php?orgcode=IAIE&evid=56707811\n\n
X-ALT-DESC;FMTTYPE=text/html:2026 IAFIE Annual Global Conference at the University of North Georgia<br /><br />06/01/26 08:00 AM EST - 06/03/26 02:00 PM EST<br />Description:<br /><p><span style="font-size:24px"><strong>To register - select the Event Registration link shown below.</strong></span></p>

<ul>
	<li><span style="font-size:24px"><a data-saferedirecturl="https://www.google.com/url?q=https://www.viethconsulting.com/ct.php?lid%3D487757313%26mm%3D143612730525&amp;source=gmail&amp;ust=1768574428114000&amp;usg=AOvVaw3ZL8HWHCbw7wzuRRpWm_OK" href="https://www.viethconsulting.com/ct.php?lid=487757313&amp;mm=143612730525" rel="noopener" target="_blank">https://www.viethconsulting.<wbr />com/members/evr/reg_event.php?<wbr />orgcode=IAIE&amp;evid=56707811</a></span></li>
</ul>

PRIORITY:3
TRANSP:TRANSPARENT
BEGIN:VALARM
TRIGGER:-PT5M
ACTION:DISPLAY
DESCRIPTION:Reminder
END:VALARM
END:VEVENT
END:VCALENDAR
