BEGIN:VCALENDAR
VERSION:2.0
CALSCALE:GREGORIAN
METHOD:PUBLISH
PRODID://FGAC//480534
BEGIN:VEVENT
DTSTAMP:20260425T185419
VTIMEZONE:America/New_York
DTSTART:20260315T140000Z
DTEND:20260315T170000Z
UID:480534
SUMMARY:Double Skwobble
LOCATION:Skeet Fields
DESCRIPTION:Double Skwobble\n\n03/15/26 10:00 AM EST\n - 03/15/26 01:00 PM EST\Description:\nDouble Skwobble on the third Sunday of each month. On Skeet field 1 only.  Fields 2 and 3 open for skeet practice as normal.\nShot from the skeet stations.  On call, you get a true pair immediately followed by another pair from the wobble trap, on report.  Semi-auto or pump that holds at least four shots required.  Loaners available.  40 birds per round.  $10 members, $20 guests.\Details:\nDouble Skwobble on the third Sunday of each month. On Skeet field 1 only.  Fields 2 and 3 open for skeet practice as normal.\nShot from the skeet stations.  On call, you get a true pair immediately followed by another pair from the wobble trap, on report.  Semi-auto or pump that holds at least four shots required.  Loaners available.  40 birds per round.  $10 members, $20 guests.\Location:\nSkeet Fields\n\n,
X-ALT-DESC;FMTTYPE=text/html:Double Skwobble<br /><br />03/15/26 10:00 AM EST - 03/15/26 01:00 PM EST<br />Description:<br />Double Skwobble&nbsp;on the third Sunday of each month. On Skeet field 1 only.&nbsp; Fields 2 and 3 open for skeet practice as normal.<br />
Shot from the skeet stations.&nbsp; On call, you get a true pair immediately&nbsp;followed by another pair from the wobble trap, on report.&nbsp; Semi-auto or pump that holds at least four shots required.&nbsp; Loaners available.&nbsp; 40 birds per round.&nbsp; $10 members, $20 guests.<br />Details:<br />Double Skwobble&nbsp;on the third Sunday of each month. On Skeet field 1 only.&nbsp; Fields 2 and 3 open for skeet practice as normal.<br />
Shot from the skeet stations.&nbsp; On call, you get a true pair immediately&nbsp;followed by another pair from the wobble trap, on report.&nbsp; Semi-auto or pump that holds at least four shots required.&nbsp; Loaners available.&nbsp; 40 birds per round.&nbsp; $10 members, $20 guests.<br />Location:<br />Skeet Fields<br /><br />,  
PRIORITY:3
TRANSP:TRANSPARENT
BEGIN:VALARM
TRIGGER:-PT5M
ACTION:DISPLAY
DESCRIPTION:Reminder
END:VALARM
END:VEVENT
END:VCALENDAR
