BEGIN:VCALENDAR
VERSION:2.0
CALSCALE:GREGORIAN
METHOD:PUBLISH
PRODID://BGTB//480014
BEGIN:VEVENT
DTSTAMP:20260423T024214
VTIMEZONE:America/New_York
DTSTART:20260212T123000Z
DTEND:20260212T140000Z
UID:480014
SUMMARY:February 2026 Engineer's Breakfast
LOCATION:To Be Determined, FL
DESCRIPTION:February 2026 Engineer's Breakfast\n\n02/12/26 07:30 AM EST\n - 02/12/26 09:00 AM EST\Description:\nWater Control Valves and Their Impact on Building Operations\n\Location:\nTo Be Determined\n\n, FL
X-ALT-DESC;FMTTYPE=text/html:February 2026 Engineer's Breakfast<br /><br />02/12/26 07:30 AM EST - 02/12/26 09:00 AM EST<br />Description:<br /><h2><font face="arial, helvetica, sans-serif"><span style="font-size:16px">Water Control Valves and Their Impact on Building Operations</span></font></h2>
<br />Location:<br />To Be Determined<br /><br />, FL 
PRIORITY:3
TRANSP:TRANSPARENT
BEGIN:VALARM
TRIGGER:-PT5M
ACTION:DISPLAY
DESCRIPTION:Reminder
END:VALARM
END:VEVENT
END:VCALENDAR
