BEGIN:VCALENDAR
VERSION:2.0
CALSCALE:GREGORIAN
METHOD:PUBLISH
PRODID://SFTE//480012
BEGIN:VEVENT
DTSTAMP:20260424T111033
VTIMEZONE:America/New_York
DTSTART:20260130T230000Z
DTEND:20260131T010000Z
UID:480012
SUMMARY:Atlanta Chapter 2026 Kickoff - Meet-and-Greet with Jen Uchida!
LOCATION:Republic Social House, 437 Memorial Dr SE, Atlanta, GA, 30312
DESCRIPTION:Atlanta Chapter 2026 Kickoff - Meet-and-Greet with Jen Uchida!\n\n01/30/26 06:00 PM EST\n - 01/30/26 08:00 PM EST\Description:\nOn Friday, January 30th we are excited to invite you to a meet-and-greet networking event with Jen Uchida. Jen is a fellow flight tester and is the immediate past president of SFTE International. Jen will be in Atlanta and would love to connect with you all over some food and drinks! We hope you can join us!\n \Details:\nOn Friday, January 30th we are excited to invite you to a meet-and-greet networking event with Jen Uchida. Jen is a fellow flight tester and is the immediate past president of SFTE International. Jen will be in Atlanta and would love to connect with you all over some food and drinks! We hope you can join us!\n*Please note that food and beverages will be available for individual purchase.  \Location:\nRepublic Social House\n437 Memorial Dr SE\nAtlanta, GA 30312
X-ALT-DESC;FMTTYPE=text/html:Atlanta Chapter 2026 Kickoff - Meet-and-Greet with Jen Uchida!<br /><br />01/30/26 06:00 PM EST - 01/30/26 08:00 PM EST<br />Description:<br />On Friday, January 30<sup>th</sup>&nbsp;we are excited to invite you to a meet-and-greet networking event with Jen Uchida. Jen is a fellow flight tester and is the immediate past president of SFTE International. Jen will be in Atlanta and would love to connect with you all over some food and drinks! We hope you can join us!<br />
&nbsp;<br />Details:<br />On Friday, January 30<sup>th</sup>&nbsp;we are excited to invite you to a meet-and-greet networking event with Jen Uchida. Jen is a fellow flight tester and is the immediate past president of SFTE International. Jen will be in Atlanta and would love to connect with you all over some food and drinks! We hope you can join us!<br />
*Please note that food and beverages will be available for individual purchase.&nbsp;&nbsp;<br />Location:<br />Republic Social House<br />437 Memorial Dr SE<br />Atlanta, GA 30312
PRIORITY:3
TRANSP:TRANSPARENT
BEGIN:VALARM
TRIGGER:-PT5M
ACTION:DISPLAY
DESCRIPTION:Reminder
END:VALARM
END:VEVENT
END:VCALENDAR
