BEGIN:VCALENDAR
VERSION:2.0
CALSCALE:GREGORIAN
METHOD:PUBLISH
PRODID://AWEA//479610
BEGIN:VEVENT
DTSTAMP:20260422T164109
VTIMEZONE:America/Chicago
DTSTART:20260206T230000Z
DTEND:20260206T230000Z
UID:479610
SUMMARY:Article/Content Deadline for the Spring 2026 Issue ofÂ "The Wave" magazine
LOCATION:
DESCRIPTION:Article/Content Deadline for the Spring 2026 Issue ofÂ "The Wave" magazine\n\n02/06/26 05:00 PM CST\n - 02/06/26 05:00 PM CST
X-ALT-DESC;FMTTYPE=text/html:Article/Content Deadline for the Spring 2026 Issue ofÂ "The Wave" magazine<br /><br />02/06/26 05:00 PM CST - 02/06/26 05:00 PM CST
PRIORITY:3
TRANSP:TRANSPARENT
BEGIN:VALARM
TRIGGER:-PT5M
ACTION:DISPLAY
DESCRIPTION:Reminder
END:VALARM
END:VEVENT
END:VCALENDAR
