BEGIN:VCALENDAR
VERSION:2.0
CALSCALE:GREGORIAN
METHOD:PUBLISH
PRODID://KGTC//479543
BEGIN:VEVENT
DTSTAMP:20260419T082449
VTIMEZONE:America/Chicago
DTSTART:20261212T150000Z
DTEND:20261212T170000Z
UID:479543
SUMMARY:KGTC Board Meeting - Virtual
LOCATION:
DESCRIPTION:KGTC Board Meeting - Virtual\n\n12/12/26 09:00 AM CST\n - 12/12/26 11:00 AM CST\Description:\nDecember 12, 2026  9:00am\nVirtual Meeting\n\nEveryone is welcome.  Please contact Robyn Aeschliman at  President@kgtc.org if you wish to join us.
X-ALT-DESC;FMTTYPE=text/html:KGTC Board Meeting - Virtual<br /><br />12/12/26 09:00 AM CST - 12/12/26 11:00 AM CST<br />Description:<br />December 12, 2026&nbsp; 9:00am<br />
Virtual Meeting<br />
<br />
Everyone is welcome.&nbsp; Please contact Robyn Aeschliman at&nbsp; President@kgtc.org if you wish to join us.
PRIORITY:3
TRANSP:TRANSPARENT
BEGIN:VALARM
TRIGGER:-PT5M
ACTION:DISPLAY
DESCRIPTION:Reminder
END:VALARM
END:VEVENT
END:VCALENDAR
