BEGIN:VCALENDAR
VERSION:2.0
CALSCALE:GREGORIAN
METHOD:PUBLISH
PRODID://FASF//479287
BEGIN:VEVENT
DTSTAMP:20260421T012303
VTIMEZONE:America/New_York
DTSTART:20260105T050000Z
DTEND:20260203T044500Z
UID:479287
SUMMARY:2026/2027 FASFAA Board Nominations
LOCATION:
DESCRIPTION:2026/2027 FASFAA Board Nominations\n\n01/05/26 12:00 AM EST\n - 02/02/26 11:45 PM EST\Description:\nThe nominations for the 2026/2027 elections are open for submission. Please consider nominating yourself or a colleague for one of the open positions for the 2026-2027 FASFAA Board. \nNomination Form\nWe are seeking the following positions:\n\n	President-Elect\n	Vice President of Training\n	Treasurer-Elect\n	Region II Representative\n	Region IV Representative\n\nPlease complete the nomination form by February 2nd, 2026. If you have any questions, please don't hesitate to contact me, and I will be happy to discuss them further. \n\nThank you,\nArminta Johnson\nFASFAA President-Elect
X-ALT-DESC;FMTTYPE=text/html:2026/2027 FASFAA Board Nominations<br /><br />01/05/26 12:00 AM EST - 02/02/26 11:45 PM EST<br />Description:<br />The nominations for the 2026/2027 elections are open for submission. Please consider nominating yourself or a colleague for one of the open positions for the 2026-2027 FASFAA Board.&nbsp;<br />
<a data-auth="NotApplicable" data-linkindex="0" href="https://www.fasfaa.org/2026_2027_election_information.php" title="https://www.fasfaa.org/2026_2027_election_information.php">Nomination Form</a><br />
We are seeking the following positions:
<ul data-editing-info="{&quot;applyListStyleFromLevel&quot;:true}">
	<li>President-Elect</li>
	<li>Vice President of Training</li>
	<li>Treasurer-Elect</li>
	<li>Region II Representative</li>
	<li>Region IV Representative</li>
</ul>
Please complete the nomination form by&nbsp;<strong><u>February 2nd, 2026</u></strong>. If you have any questions, please don't hesitate to contact me, and I will be happy to discuss them further.&nbsp;<br />
<br />
Thank you,<br />
Arminta&nbsp;Johnson<br />
FASFAA President-Elect
PRIORITY:3
TRANSP:TRANSPARENT
BEGIN:VALARM
TRIGGER:-PT5M
ACTION:DISPLAY
DESCRIPTION:Reminder
END:VALARM
END:VEVENT
END:VCALENDAR
