BEGIN:VCALENDAR
VERSION:2.0
CALSCALE:GREGORIAN
METHOD:PUBLISH
PRODID://NEAS//479221
BEGIN:VEVENT
DTSTAMP:20260423T205108
VTIMEZONE:America/Chicago
DTSTART:20260424T123000Z
DTEND:20260424T214500Z
UID:479221
SUMMARY:136th Annual Spring Meeting of the Nebraska Academy of Sciences
LOCATION:UNL East Campus Student Union, 1705 Arbor Drive, Lincoln, NE, 68526
DESCRIPTION:136th Annual Spring Meeting of the Nebraska Academy of Sciences\n\n04/24/26 07:30 AM CST\n - 04/24/26 04:45 PM CST\Description:\nCome and Share your Science at the 136th Annual Spring meeting of the Nebraska Academy of Sciences!  Students, Professionals, Faculty and Citizen Scientists are invited to submit an abstract of original research or synthesis of research/literature to one of the Sections of the Academy for inclusion in the published Program of the Annual meeting of the Nebraska Academy of Sciences.  Sections include:  Aeronautics, Applied Science and Technology, Anthropology, Biology, Biomedical Sciences, Chemistry, Earth Sciences, Environmental and Sustainability Sciences, Physics, and Teachers of Science.  Network with scientists across the state, and present your research!  \Location:\nUNL East Campus Student Union\n1705 Arbor Drive\nLincoln, NE 68526
X-ALT-DESC;FMTTYPE=text/html:136th Annual Spring Meeting of the Nebraska Academy of Sciences<br /><br />04/24/26 07:30 AM CST - 04/24/26 04:45 PM CST<br />Description:<br />Come and Share your Science at the 136th Annual Spring meeting of the Nebraska Academy of Sciences!&nbsp; Students, Professionals, Faculty and Citizen Scientists are invited to submit an abstract of original research or synthesis of research/literature to one of the Sections of the Academy for inclusion in the published Program of the Annual meeting of the Nebraska Academy of Sciences.&nbsp; Sections include:&nbsp; Aeronautics, Applied Science and Technology, Anthropology, Biology, Biomedical Sciences, Chemistry, Earth Sciences, Environmental and Sustainability Sciences, Physics, and Teachers of Science.&nbsp; Network with scientists across the state, and present your research!&nbsp;&nbsp;<br />Location:<br />UNL East Campus Student Union<br />1705 Arbor Drive<br />Lincoln, NE 68526
PRIORITY:3
TRANSP:TRANSPARENT
BEGIN:VALARM
TRIGGER:-PT5M
ACTION:DISPLAY
DESCRIPTION:Reminder
END:VALARM
END:VEVENT
END:VCALENDAR
