BEGIN:VCALENDAR
VERSION:2.0
CALSCALE:GREGORIAN
METHOD:PUBLISH
PRODID://NAWE//479198
BEGIN:VEVENT
DTSTAMP:20260424T011530
VTIMEZONE:America/New_York
DTSTART:20261119T190000Z
DTEND:20261119T200000Z
UID:479198
SUMMARY: Environment, Energy, and Equipment Committee (E3C) Meeting
LOCATION:
DESCRIPTION:Environment, Energy, and Equipment Committee (E3C) Meeting\n\n11/19/26 02:00 PM EST\n - 11/19/26 03:00 PM EST
X-ALT-DESC;FMTTYPE=text/html: Environment, Energy, and Equipment Committee (E3C) Meeting<br /><br />11/19/26 02:00 PM EST - 11/19/26 03:00 PM EST
PRIORITY:3
TRANSP:TRANSPARENT
BEGIN:VALARM
TRIGGER:-PT5M
ACTION:DISPLAY
DESCRIPTION:Reminder
END:VALARM
END:VEVENT
END:VCALENDAR
