BEGIN:VCALENDAR
VERSION:2.0
CALSCALE:GREGORIAN
METHOD:PUBLISH
PRODID://NAWE//479193
BEGIN:VEVENT
DTSTAMP:20260422T080845
VTIMEZONE:America/New_York
DTSTART:20260811T200000Z
DTEND:20260811T210000Z
UID:479193
SUMMARY:Legislative Committee Meeting
LOCATION:
DESCRIPTION:Legislative Committee Meeting\n\n08/11/26 04:00 PM EST\n - 08/11/26 05:00 PM EST
X-ALT-DESC;FMTTYPE=text/html:Legislative Committee Meeting<br /><br />08/11/26 04:00 PM EST - 08/11/26 05:00 PM EST
PRIORITY:3
TRANSP:TRANSPARENT
BEGIN:VALARM
TRIGGER:-PT5M
ACTION:DISPLAY
DESCRIPTION:Reminder
END:VALARM
END:VEVENT
END:VCALENDAR
