BEGIN:VCALENDAR
VERSION:2.0
CALSCALE:GREGORIAN
METHOD:PUBLISH
PRODID://NAWE//479186
BEGIN:VEVENT
DTSTAMP:20260419T200429
VTIMEZONE:America/New_York
DTSTART:20260512T170000Z
DTEND:20260512T180000Z
UID:479186
SUMMARY:Insurance Committee Meeting
LOCATION:
DESCRIPTION:Insurance Committee Meeting\n\n05/12/26 01:00 PM EST\n - 05/12/26 02:00 PM EST
X-ALT-DESC;FMTTYPE=text/html:Insurance Committee Meeting<br /><br />05/12/26 01:00 PM EST - 05/12/26 02:00 PM EST
PRIORITY:3
TRANSP:TRANSPARENT
BEGIN:VALARM
TRIGGER:-PT5M
ACTION:DISPLAY
DESCRIPTION:Reminder
END:VALARM
END:VEVENT
END:VCALENDAR
