BEGIN:VCALENDAR
VERSION:2.0
CALSCALE:GREGORIAN
METHOD:PUBLISH
PRODID://BGTB//478259
BEGIN:VEVENT
DTSTAMP:20260420T162552
VTIMEZONE:America/New_York
DTSTART:20260217T200000Z
DTEND:20260217T210000Z
UID:478259
SUMMARY:Golf Committee Meeting
LOCATION:MetWest, 4010 W. Boy Scout Blvd., 1st Floor Conference Room, Tampa, FL, 33607
DESCRIPTION:Golf Committee Meeting\n\n02/17/26 03:00 PM EST\n - 02/17/26 04:00 PM EST\Location:\nMetWest\n4010 W. Boy Scout Blvd., 1st Floor Conference Room\nTampa, FL 33607
X-ALT-DESC;FMTTYPE=text/html:Golf Committee Meeting<br /><br />02/17/26 03:00 PM EST - 02/17/26 04:00 PM EST<br />Location:<br />MetWest<br />4010 W. Boy Scout Blvd., 1st Floor Conference Room<br />Tampa, FL 33607
PRIORITY:3
TRANSP:TRANSPARENT
BEGIN:VALARM
TRIGGER:-PT5M
ACTION:DISPLAY
DESCRIPTION:Reminder
END:VALARM
END:VEVENT
END:VCALENDAR
