BEGIN:VCALENDAR
VERSION:2.0
CALSCALE:GREGORIAN
METHOD:PUBLISH
PRODID://TPA//476895
BEGIN:VEVENT
DTSTAMP:20260421T050945
VTIMEZONE:America/New_York
DTSTART:20260115T133000Z
DTEND:20260115T200000Z
UID:476895
SUMMARY:Statewide Positive Approaches & Practices Meeting
LOCATION:
DESCRIPTION:Statewide Positive Approaches & Practices Meeting\n\n01/15/26 08:30 AM EST\n - 01/15/26 03:00 PM EST\Description:\nYou are invited to participate in the Department of Human Services’ (DHS)\nSTATEWIDE POSITIVE APPROACHES & PRACTICES MEETING\nJointly hosted by the Office of Mental Health and Substance Abuse Services (OMHSAS) and the Office of Developmental Programs (ODP).\nThis quarterly meeting aims to provide the most recent research and resources for people with mental health and behavioral challenges, intellectual disabilities, autism, and other developmental disabilities to live an everyday life.\n\nDate: Thursday, January 15, 2026 [Morning and Afternoon Session]\nTime: 8:30 am – 10:30 am / 1:00 pm - 3:00 pm\nLocation: Online – Zoom Webinar\n\nClick here to register.\nClick here for Announcment. \n 
X-ALT-DESC;FMTTYPE=text/html:Statewide Positive Approaches & Practices Meeting<br /><br />01/15/26 08:30 AM EST - 01/15/26 03:00 PM EST<br />Description:<br />You are invited to participate in the Department of Human Services&rsquo; (DHS)<br />
STATEWIDE POSITIVE APPROACHES &amp; PRACTICES MEETING<br />
Jointly hosted by&nbsp;the Office of Mental Health and Substance Abuse Services (OMHSAS) and&nbsp;the Office of Developmental Programs (ODP).<br />
This quarterly meeting aims to provide the most recent research and resources for people with mental health and behavioral challenges, intellectual disabilities, autism, and other developmental disabilities to live an everyday life.<br />
<br />
Date: Thursday, January 15, 2026 [Morning and Afternoon Session]<br />
Time: 8:30 am &ndash; 10:30 am / 1:00 pm - 3:00 pm<br />
Location: Online &ndash; Zoom Webinar<br />
<br />
<a href="https://us02web.zoom.us/webinar/register/WN_Ge9YHAqDR4WEPjQ_uNoLig#/registration">Click here</a> to register.<br />
<a href="https://www.provideralliance.org/docs/Statewide_Positive_Practices_Meeting_Announcement-January_2026-FINAL.pdf">Click here </a>for Announcment.&nbsp;<br />
&nbsp;
PRIORITY:3
TRANSP:TRANSPARENT
BEGIN:VALARM
TRIGGER:-PT5M
ACTION:DISPLAY
DESCRIPTION:Reminder
END:VALARM
END:VEVENT
END:VCALENDAR
