BEGIN:VCALENDAR
VERSION:2.0
CALSCALE:GREGORIAN
METHOD:PUBLISH
PRODID://FGAC//476668
BEGIN:VEVENT
DTSTAMP:20260425T154318
VTIMEZONE:America/New_York
DTSTART:20260707T130000Z
DTEND:20260707T160000Z
UID:476668
SUMMARY:Trap - Practice (9 AM - 12:30)
LOCATION:
DESCRIPTION:Trap - Practice (9 AM - 12:30)\n\n07/07/26 09:00 AM EST\n - 07/07/26 12:00 PM EST
X-ALT-DESC;FMTTYPE=text/html:Trap - Practice (9 AM - 12:30)<br /><br />07/07/26 09:00 AM EST - 07/07/26 12:00 PM EST
PRIORITY:3
TRANSP:TRANSPARENT
BEGIN:VALARM
TRIGGER:-PT5M
ACTION:DISPLAY
DESCRIPTION:Reminder
END:VALARM
END:VEVENT
END:VCALENDAR
