BEGIN:VCALENDAR
VERSION:2.0
CALSCALE:GREGORIAN
METHOD:PUBLISH
PRODID://FGAC//476255
BEGIN:VEVENT
DTSTAMP:20260420T053137
VTIMEZONE:America/New_York
DTSTART:20250809T130000Z
DTEND:20250809T163000Z
UID:476255
SUMMARY:Trap - Practice (9 AM - 12:30)
LOCATION:
DESCRIPTION:Trap - Practice (9 AM - 12:30)\n\n08/09/25 09:00 AM EST\n - 08/09/25 12:30 PM EST
X-ALT-DESC;FMTTYPE=text/html:Trap - Practice (9 AM - 12:30)<br /><br />08/09/25 09:00 AM EST - 08/09/25 12:30 PM EST
PRIORITY:3
TRANSP:TRANSPARENT
BEGIN:VALARM
TRIGGER:-PT5M
ACTION:DISPLAY
DESCRIPTION:Reminder
END:VALARM
END:VEVENT
END:VCALENDAR
