BEGIN:VCALENDAR
VERSION:2.0
CALSCALE:GREGORIAN
METHOD:PUBLISH
PRODID://FGAC//476223
BEGIN:VEVENT
DTSTAMP:20260420T103017
VTIMEZONE:America/New_York
DTSTART:20250419T130000Z
DTEND:20250419T163000Z
UID:476223
SUMMARY:Trap - Practice (9 AM - 12:30)
LOCATION:
DESCRIPTION:Trap - Practice (9 AM - 12:30)\n\n04/19/25 09:00 AM EST\n - 04/19/25 12:30 PM EST
X-ALT-DESC;FMTTYPE=text/html:Trap - Practice (9 AM - 12:30)<br /><br />04/19/25 09:00 AM EST - 04/19/25 12:30 PM EST
PRIORITY:3
TRANSP:TRANSPARENT
BEGIN:VALARM
TRIGGER:-PT5M
ACTION:DISPLAY
DESCRIPTION:Reminder
END:VALARM
END:VEVENT
END:VCALENDAR
