BEGIN:VCALENDAR
VERSION:2.0
CALSCALE:GREGORIAN
METHOD:PUBLISH
PRODID://FGAC//476212
BEGIN:VEVENT
DTSTAMP:20260423T191700
VTIMEZONE:America/New_York
DTSTART:20250311T130000Z
DTEND:20250311T163000Z
UID:476212
SUMMARY:Trap - Practice (9 AM - 12:30)
LOCATION:
DESCRIPTION:Trap - Practice (9 AM - 12:30)\n\n03/11/25 09:00 AM EST\n - 03/11/25 12:30 PM EST
X-ALT-DESC;FMTTYPE=text/html:Trap - Practice (9 AM - 12:30)<br /><br />03/11/25 09:00 AM EST - 03/11/25 12:30 PM EST
PRIORITY:3
TRANSP:TRANSPARENT
BEGIN:VALARM
TRIGGER:-PT5M
ACTION:DISPLAY
DESCRIPTION:Reminder
END:VALARM
END:VEVENT
END:VCALENDAR
