BEGIN:VCALENDAR
VERSION:2.0
CALSCALE:GREGORIAN
METHOD:PUBLISH
PRODID://FGAC//474200
BEGIN:VEVENT
DTSTAMP:20260419T082207
VTIMEZONE:America/New_York
DTSTART:20261213T130000Z
DTEND:20261213T213000Z
UID:474200
SUMMARY:Project Appleseed @ Flagler Gun Club
LOCATION:Flagler Gun Club, 1290 CR 9890 East, Bunnell, FL, 32110
DESCRIPTION:Project Appleseed @ Flagler Gun Club\n\n12/13/26 08:00 AM EST\n - 12/13/26 04:30 PM EST\Description:\nIf you have never experienced an Appleseed event, you are missing out on a great weekend. Kid friendly as long as they know how to safely handle a rifle.\n\nFor more information and to register:\n\nwww.Appleseedinfo.org\Location:\nFlagler Gun Club\n1290 CR 9890 East\nBunnell, FL 32110
X-ALT-DESC;FMTTYPE=text/html:Project Appleseed @ Flagler Gun Club<br /><br />12/13/26 08:00 AM EST - 12/13/26 04:30 PM EST<br />Description:<br />If you have never experienced an Appleseed event, you are missing out on a great weekend. Kid friendly as long as they know how to safely handle a rifle.<br />
<br />
For more information and to register:<br />
<br />
<a href="http://appleseedinfo.org">www.Appleseedinfo.org</a><br />Location:<br />Flagler Gun Club<br />1290 CR 9890 East<br />Bunnell, FL 32110
PRIORITY:3
TRANSP:TRANSPARENT
BEGIN:VALARM
TRIGGER:-PT5M
ACTION:DISPLAY
DESCRIPTION:Reminder
END:VALARM
END:VEVENT
END:VCALENDAR
