BEGIN:VCALENDAR
VERSION:2.0
CALSCALE:GREGORIAN
METHOD:PUBLISH
PRODID://TPA//473806
BEGIN:VEVENT
DTSTAMP:20260423T173922
VTIMEZONE:America/New_York
DTSTART:20260113T190000Z
DTEND:20260113T200000Z
UID:473806
SUMMARY:New Tools to Support Inclusive Research (AAIDD)
LOCATION:
DESCRIPTION:New Tools to Support Inclusive Research (AAIDD)\n\n01/13/26 02:00 PM EST\n - 01/13/26 03:00 PM EST\Description:\n\nIn this webinar, attendees will learn about a new resource to support inclusive research - a book to be published by AAIDD—Conducting Inclusive Research: Tools and Practical Strategies  and the webinar will highlight engagement strategies included in the book to engage people with intellectual disability as full members of the research team.\n\nPresenters:\n\n\n	Ariel Schwartz, PhD - University of New Hampshire\n	Katherine McDonald, PhD - Syracuse University\n	Brendan Durkin - Co-researcher\n	Shawna Dedonado - Co-researcher\n	Elijah Thomas - Co-researcher\n\nClick here to Register
X-ALT-DESC;FMTTYPE=text/html:New Tools to Support Inclusive Research (AAIDD)<br /><br />01/13/26 02:00 PM EST - 01/13/26 03:00 PM EST<br />Description:<br /><meta charset="UTF-8" />
<p>In this webinar, attendees will learn about a new resource to support inclusive research - a book to be published by AAIDD&mdash;<a href="https://www.aaidd.org/publications/bookstore-home/product-listing/conducting-inclusive-research-tools-and-practical-strategies" target="_blank"><em>Conducting Inclusive Research: Tools and Practical Strategies</em></a>&nbsp; and the webinar will highlight engagement strategies included in the book to engage people with intellectual disability as full members of the research team.<br />
<br />
Presenters:</p>

<ul>
	<li>Ariel Schwartz, PhD -&nbsp;University of New Hampshire</li>
	<li>Katherine McDonald, PhD -&nbsp;Syracuse University</li>
	<li>Brendan Durkin&nbsp;- Co-researcher</li>
	<li>Shawna Dedonado&nbsp;- Co-researcher</li>
	<li>Elijah Thomas -&nbsp;Co-researcher</li>
</ul>
<a href="https://www.aaidd.org/education/webinars/register-for-upcoming-webinars/2026/01/13/default-calendar/new-tools-to-support-inclusive-research">Click here to Register</a>
PRIORITY:3
TRANSP:TRANSPARENT
BEGIN:VALARM
TRIGGER:-PT5M
ACTION:DISPLAY
DESCRIPTION:Reminder
END:VALARM
END:VEVENT
END:VCALENDAR
