BEGIN:VCALENDAR
VERSION:2.0
CALSCALE:GREGORIAN
METHOD:PUBLISH
PRODID://ILRW//472235
BEGIN:VEVENT
DTSTAMP:20260419T154220
VTIMEZONE:America/Chicago
DTSTART:20260203T140000Z
DTEND:20260203T173000Z
UID:472235
SUMMARY:Boil Orders/Cross-Connection Control/Stump the Chumps
LOCATION:Tilton Community Center, 612 W Fifth Streeet, Tilton, IL, 61833
DESCRIPTION:Boil Orders/Cross-Connection Control/Stump the Chumps\n\n02/03/26 08:00 AM CST\n - 02/03/26 11:30 AM CST\Location:\nTilton Community Center\n612 W Fifth Streeet\nTilton, IL 61833
X-ALT-DESC;FMTTYPE=text/html:Boil Orders/Cross-Connection Control/Stump the Chumps<br /><br />02/03/26 08:00 AM CST - 02/03/26 11:30 AM CST<br />Location:<br />Tilton Community Center<br />612 W Fifth Streeet<br />Tilton, IL 61833
PRIORITY:3
TRANSP:TRANSPARENT
BEGIN:VALARM
TRIGGER:-PT5M
ACTION:DISPLAY
DESCRIPTION:Reminder
END:VALARM
END:VEVENT
END:VCALENDAR
