BEGIN:VCALENDAR
VERSION:2.0
CALSCALE:GREGORIAN
METHOD:PUBLISH
PRODID://IPBC//471965
BEGIN:VEVENT
DTSTAMP:20260422T073109
VTIMEZONE:America/New_York
DTSTART:20260120T220000Z
DTEND:20260121T000000Z
UID:471965
SUMMARY:Impact's Two-Hour Tuesday 
LOCATION:Atha , 2219 Seacrest Blvd, Delray Beach, 33444
DESCRIPTION:Impact's Two-Hour Tuesday \n\n01/20/26 05:00 PM EST\n - 01/20/26 07:00 PM EST\Description:\nBring a friend and join us for bubbly, bites, and impactful connections! It's a great opportunity to introduce a friend to Impact 100 PBC. We are connecting, engaging, and inspiring women in our community to make great change by funding $100,000 to local nonprofits. \Location:\nAtha \n2219 Seacrest Blvd\nDelray Beach,  33444
X-ALT-DESC;FMTTYPE=text/html:Impact's Two-Hour Tuesday <br /><br />01/20/26 05:00 PM EST - 01/20/26 07:00 PM EST<br />Description:<br />Bring a friend and join us&nbsp;for bubbly, bites, and impactful connections! It's a great opportunity to introduce a friend to Impact 100 PBC. We are connecting, engaging, and inspiring women in our community to make great change by funding $100,000 to local nonprofits.&nbsp;<br />Location:<br />Atha <br />2219 Seacrest Blvd<br />Delray Beach,  33444
PRIORITY:3
TRANSP:TRANSPARENT
BEGIN:VALARM
TRIGGER:-PT5M
ACTION:DISPLAY
DESCRIPTION:Reminder
END:VALARM
END:VEVENT
END:VCALENDAR
