BEGIN:VCALENDAR
VERSION:2.0
CALSCALE:GREGORIAN
METHOD:PUBLISH
PRODID://WPTA//471688
BEGIN:VEVENT
DTSTAMP:20260422T091048
VTIMEZONE:America/Los_Angeles
DTSTART:20260122T220000Z
DTEND:20260122T230000Z
UID:471688
SUMMARY:WPTA Winter Roundtable 2026
LOCATION:
DESCRIPTION:WPTA Winter Roundtable 2026\n\n01/22/26 02:00 PM PST\n - 01/22/26 03:00 PM PST\Description:\nWPTA Quarterly Roundtable: A series of conversations hosted by WPTA designed to appeal to public finance professionals interested in learning from their peers. The conversations will focus on current events, policies, technology, and innovation.  Here’s an opportunity to network, share, learn, and grow with your public finance peers in Washington.\n \n
X-ALT-DESC;FMTTYPE=text/html:WPTA Winter Roundtable 2026<br /><br />01/22/26 02:00 PM PST - 01/22/26 03:00 PM PST<br />Description:<br /><p data-olk-copy-source="MessageBody"><span style="font-size:14px"><span style="font-family:lucida sans unicode,lucida grande,sans-serif">WPTA Quarterly Roundtable:&nbsp;A series of conversations hosted by WPTA designed to appeal to public finance professionals interested in learning from their peers. The conversations will focus on current events, policies, technology, and innovation. &nbsp;Here&rsquo;s an opportunity to network, share, learn, and grow with your public finance peers in Washington.</span></span><br />
&nbsp;</p>

PRIORITY:3
TRANSP:TRANSPARENT
BEGIN:VALARM
TRIGGER:-PT5M
ACTION:DISPLAY
DESCRIPTION:Reminder
END:VALARM
END:VEVENT
END:VCALENDAR
